BEGIN:VCALENDAR
VERSION:2.0
PRODID:-//Move Space - ECPv6.15.20//NONSGML v1.0//EN
CALSCALE:GREGORIAN
METHOD:PUBLISH
X-WR-CALNAME:Move Space
X-ORIGINAL-URL:https://movespace.at
X-WR-CALDESC:Veranstaltungen für Move Space
REFRESH-INTERVAL;VALUE=DURATION:PT1H
X-Robots-Tag:noindex
X-PUBLISHED-TTL:PT1H
BEGIN:VTIMEZONE
TZID:Europe/Berlin
BEGIN:DAYLIGHT
TZOFFSETFROM:+0100
TZOFFSETTO:+0200
TZNAME:CEST
DTSTART:20240331T010000
END:DAYLIGHT
BEGIN:STANDARD
TZOFFSETFROM:+0200
TZOFFSETTO:+0100
TZNAME:CET
DTSTART:20241027T010000
END:STANDARD
BEGIN:DAYLIGHT
TZOFFSETFROM:+0100
TZOFFSETTO:+0200
TZNAME:CEST
DTSTART:20250330T010000
END:DAYLIGHT
BEGIN:STANDARD
TZOFFSETFROM:+0200
TZOFFSETTO:+0100
TZNAME:CET
DTSTART:20251026T010000
END:STANDARD
BEGIN:DAYLIGHT
TZOFFSETFROM:+0100
TZOFFSETTO:+0200
TZNAME:CEST
DTSTART:20260329T010000
END:DAYLIGHT
BEGIN:STANDARD
TZOFFSETFROM:+0200
TZOFFSETTO:+0100
TZNAME:CET
DTSTART:20261025T010000
END:STANDARD
END:VTIMEZONE
BEGIN:VEVENT
DTSTART;TZID=Europe/Berlin:20250708T083000
DTEND;TZID=Europe/Berlin:20250708T093000
DTSTAMP:20260422T213042
CREATED:20241021T181207Z
LAST-MODIFIED:20250704T091635Z
UID:22269-1751963400-1751967000@movespace.at
SUMMARY:Pilates
DESCRIPTION:Pilates als Stärkung\n			\n			\n				\n				\n				\n				\n			\n				\n				\n				\n				\n				\n				\n				\n				\n				\n				\n				Pilates ist eine gesundheitsfördernde Bewegungsform\, deren positiven Nutzen Namensgeber Josef Pilates im Zuge eines langen Heilungsprozesses entdeckte\, führt Deinen ganzen Körper durch eine Abfolge kräftigender Übungen\, die Atemfluss und Bewegung in Einklang bringen.Die Übungen werden im Stehen oder auf der Matte und wahlweise mit Hilfsmitteln\, Musik oder in Intervallen ausgeübt. Diese Bewegungsform ist für jeden Körper geeignet und verbindet gelenkschonendes Ganzkörpertraining mit bewusster Atemkontrolle. Durch Ansteuerung der Tiefenmuskulatur können Haltungsschäden und Rückenschmerzen reduziert werden. \n  \n  \n			\n			\n				\n				\n				\n				\n				\n				\n				\n				\n				\n				Blockaden werden gelöst und durch bewusste Körperwahrnehmung Deine positive Selbstempfindung geschult.Stärke Dein Powerhouse und finde Deine starke Mitte im Körper und im Geist\, während Du Dich in einer spaßigen Klasse auspowerst. Durch einen hohen Alltagstransfer bietet Pilatestraining auch positive Effekte als Ergänzung und kräftigenden Ausgleich zu anderen Sportarten wie Laufen\, Radfahren oder Yoga. Ich biete bieten Varianten für alle Levels an – auch in englischer Sprache! \n  \n			\n				\n				\n				\n				\n				\n			\n				\n				\n				\n				\n				\n			\n			\n				\n				\n				\n				\n			\n				\n				\n			\n				\n				\n				\n				\n				\n				\n				\n				\n				\n				\n				\n				\n				\n				\n				\n				\n				\n				Diese Klasse führt Deinen ganzen Körper nach einem angeleitetem Aufwärmen\, durch eine Abfolge kräftigender Übungen\, die Atemfluss und Bewegung in Einklang bringen. Die Übungen werden im Stehen oder auf der Matte und mit Hilfsmitteln wie Magic Circle\, Ball\, Gewichten ausgeübt. Es gibt viele Optionen für unterschiedliche Fitnesslevels.Eine Einheit dauert 60 Minuten.  \n \n			\n			\n				\n				\n				\n				\n			\n				\n				\n				\n				\n				\n				\n				\n				\n				\n				\n				Pro Einheit – Drop In\n			\n				\n				\n				\n				\n				\n			\n				\n				\n				\n				\n				20 € \n			\n				\n				\n				\n				\n				Bei einer Abmeldung ab drei Wochen vor Seminarbeginn bzw. nicht Erscheinen ohne Abmeldung ist der gesamte Beitrag fällig. Ersatz-Teilnehmende sind in Absprache möglich! \n			\n			\n				\n				\n				\n				\n			\n				\n				\n			\n				\n				\n				\n				\n				\n				\n				\n				\n				\n			\n				\n				\n				\n				\n				\n				\n				\n				\n				\n				\n				\n				\n				\n			\n				\n				\n				\n				\n				\n				\n				\n				\n				\n				Jetzt anfangen\n			\n			\n				\n				\n				\n				\n				Hier Deine Anfrage!\n				\n				\n				\n					\n						\n				\n				\n				\n				\n				Name\n				\n			 \n				\n				\n				\n				\n				Email Address\n				\n			 \n				\n				\n				\n				\n				Message\n				\n			 \n						\n						\n							\n			\n				\n					15 + 14 = \n				 \n			\n							Senden\n						\n						\n					\n				\n			\n			\n			\n				\n				\n				\n				\n			\n				\n				\n			\n				\n				\n				\n				\n				\n				\n				\n				\n				\n				\n				\n				\n				\n				\n				\n				\n				\n				Impressum\n			\n				\n				\n				\n				\n				Felicitas Franz\, Wien \nPostadresse:Hessenstr. 6D-35325 Mücke (Groß-Eichen) \n			\n			\n				\n				\n				\n				\n				\n				\n				\n				\n				\n				Quik Links\n			\n				\n				\n				\n				\n				Yoga5RhythmenDurch.lässig.tanzenTermine \n			\n			\n				\n				\n				\n				\n				\n				\n				\n				\n				\n				Follow Me\n			\n				\n				\n				\n				\n				Folgen
URL:https://movespace.at/event/pilates
LOCATION:Feelgood Studio\, Paulanergasse 13\, 2. Stock\, Loft\, Wien\, 1040\, Austria
CATEGORIES:Pilates
ATTACH;FMTTYPE=image/jpeg:https://movespace.at/wp-content/uploads/2024/10/IMG_3916.jpg
END:VEVENT
BEGIN:VEVENT
DTSTART;TZID=Europe/Berlin:20250708T130000
DTEND;TZID=Europe/Berlin:20250708T140000
DTSTAMP:20260422T213042
CREATED:20241021T192127Z
LAST-MODIFIED:20250704T091539Z
UID:22312-1751979600-1751983200@movespace.at
SUMMARY:Yoga
DESCRIPTION:Yoga für Stärkung\, Erholung & Heilung!\n  \n  \n			\n				\n				\n				\n				\n				\n			\n			\n				\n				\n				\n				\n			\n				\n				\n				\n				\n				\n				\n				\n				\n				\n				\n				Grundsätzlich fundiert jede meiner Yoga Einheiten jeden Levels auf folgendem Grundprinzip: \nYoga – Work – Out* Ausbilden von Kraft\,* Beweglichkeit & Körpergefühl durch Yoga Positionen (Asanas).* Power & Freude den eigenen Körper zu bewegen und besser kennen zulernen stehen im Vordergrund. \n  \n			\n			\n				\n				\n				\n				\n				\n				\n				\n				\n				\n				Yoga – Work – In* Steigern vom persönlichen Wohlbefinden durch Meditation\,* verschiedene Atem- und Entspannungstechniken\,* Förderung vom Selbstbewusstsein durch spezifische und individuelle Sequenzen. und Präsenz mit dem was ist\, wird stärker und so komme ich in eine Handlungsfreiheit. \n			\n				\n				\n				\n				\n				Jeden Dienstag & Donnerstag* Anmeldung via felicitas@movespace.at oder unten stehendes Kontaktformular \n			\n			\n				\n				\n				\n				\n			\n				\n				\n			\n				\n				\n				\n				\n				\n				\n				\n				\n				\n				\n				\n				\n				\n				\n				\n				\n				\n				Konkretes\n			\n			\n				\n				\n				\n				\n			\n				\n				\n				\n				\n				\n				\n				\n				\n				\n				\n				Ablauf\n			\n				\n				\n				\n				\n				\n			\n				\n				\n				\n				\n				Aufwärmen der Gelenke und Muskeln\, Vinyasa Flow (Asana Abfolgen)\, Pranayam (Atemübungen)\, Peak Pose.  \n\nEine reguläre Klasse dauert60 Minuten. \n\n			\n			\n				\n				\n				\n				\n				\n				\n				\n				\n				\n				Kosten\n			\n				\n				\n				\n				\n				\n			\n				\n				\n				\n				\n				Normalbeitrag: € 20Sozialbeitrag: € 18Workshops kosten mehr je nach Dauer\, Ort und Kooperation.Bitte informiere Dich dazu vorab in den Workshopdetails.  \n  \n			\n			\n				\n				\n				\n				\n				\n				\n				\n				\n				\n				Stornovereinbarung\n			\n				\n				\n				\n				\n				\n			\n				\n				\n				\n				\n				\n\n\nIn die Seminarorganisation fließt einiges an zeitlichen Aufwand. Genauso gehen wir auch Verbindlichkeiten ein (wie z.B. Raummiete). Um sicher zu sein\, dass jene\, die sich anmelden\, auch wirklich gerne kommen\, sind wir bereit bis 24 Stunden vor einer regulären Klasse die Anmeldung ohne eine Stornogebühr zu stornieren. Bei einer Abmeldung nach 24 h vor Klassenbeginn bzw. nicht Erscheinen ohne Abmeldung behalten wir den Beitrag von 10 Euro.Mit der Anmeldung stimmst du unseren Bedingungen zu. Ersatz-Teilnehmende sind in Absprache möglich! \n\n\n\n			\n			\n				\n				\n				\n				\n				\n				\n				\n				\n				\n				Wohl und Sicherheit\n			\n				\n				\n				\n				\n				\n			\n				\n				\n				\n				\n				\n\n\nBitte ziehe bewegungsfreundliche Kleidung an & bring eine Trinkflasche mit. Equipment und Yogamatten gibt es vor Ort.Jede/r ist verantwortlich für das eigene Wohlergehen des eigenen Körpers; bitte achte auf deine Grenzen und einen respektvollen Umgang miteinander.Dies ist ein geschützter Raum und gemeinsam tragen wir zur Sicherheit bei. \n\n\n\n			\n			\n				\n				\n				\n				\n			\n				\n				\n				\n				\n				\n				\n			\n				\n				\n				\n				\n				Jetzt anfangen!\n				\n				\n				\n					\n						\n				\n				\n				\n				\n				Name\n				\n			 \n				\n				\n				\n				\n				E-Mail-Adresse\n				\n			 \n				\n				\n				\n				\n				Message\n				\n			 \n						\n						\n							\n			\n				\n					1 + 14 = \n				 \n			\n							Senden
URL:https://movespace.at/event/yoga-15
LOCATION:Alkemy Soul Studio\, Gußhausstr. 2\, Wien\, 1040\, Austria
CATEGORIES:Yoga
ATTACH;FMTTYPE=image/jpeg:https://movespace.at/wp-content/uploads/2024/10/Yoga_AtelierSol.jpg
END:VEVENT
BEGIN:VEVENT
DTSTART;TZID=Europe/Berlin:20250715T083000
DTEND;TZID=Europe/Berlin:20250715T093000
DTSTAMP:20260422T213042
CREATED:20241015T123458Z
LAST-MODIFIED:20250704T093652Z
UID:22178-1752568200-1752571800@movespace.at
SUMMARY:Pilates
DESCRIPTION:Pilates als Stärkung\n			\n			\n				\n				\n				\n				\n			\n				\n				\n				\n				\n				\n				\n				\n				\n				\n				\n				Pilates ist eine gesundheitsfördernde Bewegungsform\, deren positiven Nutzen Namensgeber Josef Pilates im Zuge eines langen Heilungsprozesses entdeckte\, führt Deinen ganzen Körper durch eine Abfolge kräftigender Übungen\, die Atemfluss und Bewegung in Einklang bringen.Die Übungen werden im Stehen oder auf der Matte und wahlweise mit Hilfsmitteln\, Musik oder in Intervallen ausgeübt. Diese Bewegungsform ist für jeden Körper geeignet und verbindet gelenkschonendes Ganzkörpertraining mit bewusster Atemkontrolle. Durch Ansteuerung der Tiefenmuskulatur können Haltungsschäden und Rückenschmerzen reduziert werden. \n  \n  \n			\n			\n				\n				\n				\n				\n				\n				\n				\n				\n				\n				Blockaden werden gelöst und durch bewusste Körperwahrnehmung Deine positive Selbstempfindung geschult.Stärke Dein Powerhouse und finde Deine starke Mitte im Körper und im Geist\, während Du Dich in einer spaßigen Klasse auspowerst. Durch einen hohen Alltagstransfer bietet Pilatestraining auch positive Effekte als Ergänzung und kräftigenden Ausgleich zu anderen Sportarten wie Laufen\, Radfahren oder Yoga. Ich biete bieten Varianten für alle Levels an – auch in englischer Sprache! \n  \n			\n				\n				\n				\n				\n				\n			\n				\n				\n				\n				\n				\n			\n			\n				\n				\n				\n				\n			\n				\n				\n			\n				\n				\n				\n				\n				\n				\n				\n				\n				\n				\n				\n				\n				\n				\n				\n				\n				\n				Diese Klasse führt Deinen ganzen Körper nach einem angeleitetem Aufwärmen\, durch eine Abfolge kräftigender Übungen\, die Atemfluss und Bewegung in Einklang bringen. Die Übungen werden im Stehen oder auf der Matte und mit Hilfsmitteln wie Magic Circle\, Ball\, Gewichten ausgeübt. Es gibt viele Optionen für unterschiedliche Fitnesslevels.Eine Einheit dauert 60 Minuten.  \n \n			\n			\n				\n				\n				\n				\n			\n				\n				\n				\n				\n				\n				\n				\n				\n				\n				\n				Pro Einheit – Drop In\n			\n				\n				\n				\n				\n				\n			\n				\n				\n				\n				\n				20 € \n			\n				\n				\n				\n				\n				Bei einer Abmeldung ab drei Wochen vor Seminarbeginn bzw. nicht Erscheinen ohne Abmeldung ist der gesamte Beitrag fällig. Ersatz-Teilnehmende sind in Absprache möglich! \n			\n			\n				\n				\n				\n				\n			\n				\n				\n			\n				\n				\n				\n				\n				\n				\n				\n				\n				\n			\n				\n				\n				\n				\n				\n				\n				\n				\n				\n				\n				\n				\n				\n			\n				\n				\n				\n				\n				\n				\n				\n				\n				\n				Jetzt anfangen\n			\n			\n				\n				\n				\n				\n				Hier Deine Anfrage!\n				\n				\n				\n					\n						\n				\n				\n				\n				\n				Name\n				\n			 \n				\n				\n				\n				\n				Email Address\n				\n			 \n				\n				\n				\n				\n				Message\n				\n			 \n						\n						\n							\n			\n				\n					8 + 9 = \n				 \n			\n							Senden\n						\n						\n					\n				\n			\n			\n			\n				\n				\n				\n				\n			\n				\n				\n			\n				\n				\n				\n				\n				\n				\n				\n				\n				\n				\n				\n				\n				\n				\n				\n				\n				\n				Impressum\n			\n				\n				\n				\n				\n				Felicitas Franz\, Wien \nPostadresse:Hessenstr. 6D-35325 Mücke (Groß-Eichen) \n			\n			\n				\n				\n				\n				\n				\n				\n				\n				\n				\n				Quik Links\n			\n				\n				\n				\n				\n				Yoga5RhythmenDurch.lässig.tanzenTermine \n			\n			\n				\n				\n				\n				\n				\n				\n				\n				\n				\n				Follow Me\n			\n				\n				\n				\n				\n				Folgen
URL:https://movespace.at/event/pilates-8
LOCATION:Feelgood Studio\, Paulanergasse 13\, 2. Stock\, Loft\, Wien\, 1040\, Austria
CATEGORIES:Pilates
ATTACH;FMTTYPE=image/jpeg:https://movespace.at/wp-content/uploads/2024/10/IMG_3916.jpg
END:VEVENT
BEGIN:VEVENT
DTSTART;TZID=Europe/Berlin:20250715T130000
DTEND;TZID=Europe/Berlin:20250715T140000
DTSTAMP:20260422T213042
CREATED:20250215T181136Z
LAST-MODIFIED:20250704T092527Z
UID:22573-1752584400-1752588000@movespace.at
SUMMARY:Yoga
DESCRIPTION:Yoga für Stärkung\, Erholung & Heilung!\n  \n  \n			\n				\n				\n				\n				\n				\n			\n			\n				\n				\n				\n				\n			\n				\n				\n				\n				\n				\n				\n				\n				\n				\n				\n				Grundsätzlich fundiert jede meiner Yoga Einheiten jeden Levels auf folgendem Grundprinzip: \nYoga – Work – Out* Ausbilden von Kraft\,* Beweglichkeit & Körpergefühl durch Yoga Positionen (Asanas).* Power & Freude den eigenen Körper zu bewegen und besser kennen zulernen stehen im Vordergrund. \n  \n			\n			\n				\n				\n				\n				\n				\n				\n				\n				\n				\n				Yoga – Work – In* Steigern vom persönlichen Wohlbefinden durch Meditation\,* verschiedene Atem- und Entspannungstechniken\,* Förderung vom Selbstbewusstsein durch spezifische und individuelle Sequenzen. und Präsenz mit dem was ist\, wird stärker und so komme ich in eine Handlungsfreiheit. \n			\n				\n				\n				\n				\n				Jeden Dienstag & Donnerstag* Anmeldung via felicitas@movespace.at oder unten stehendes Kontaktformular \n			\n			\n				\n				\n				\n				\n			\n				\n				\n			\n				\n				\n				\n				\n				\n				\n				\n				\n				\n				\n				\n				\n				\n				\n				\n				\n				\n				Konkretes\n			\n			\n				\n				\n				\n				\n			\n				\n				\n				\n				\n				\n				\n				\n				\n				\n				\n				Ablauf\n			\n				\n				\n				\n				\n				\n			\n				\n				\n				\n				\n				Aufwärmen der Gelenke und Muskeln\, Vinyasa Flow (Asana Abfolgen)\, Pranayam (Atemübungen)\, Peak Pose.  \n\nEine reguläre Klasse dauert60 Minuten. \n\n			\n			\n				\n				\n				\n				\n				\n				\n				\n				\n				\n				Kosten\n			\n				\n				\n				\n				\n				\n			\n				\n				\n				\n				\n				Normalbeitrag: € 20Sozialbeitrag: € 18Workshops kosten mehr je nach Dauer\, Ort und Kooperation.Bitte informiere Dich dazu vorab in den Workshopdetails.  \n  \n			\n			\n				\n				\n				\n				\n				\n				\n				\n				\n				\n				Stornovereinbarung\n			\n				\n				\n				\n				\n				\n			\n				\n				\n				\n				\n				\n\n\nIn die Seminarorganisation fließt einiges an zeitlichen Aufwand. Genauso gehen wir auch Verbindlichkeiten ein (wie z.B. Raummiete). Um sicher zu sein\, dass jene\, die sich anmelden\, auch wirklich gerne kommen\, sind wir bereit bis 24 Stunden vor einer regulären Klasse die Anmeldung ohne eine Stornogebühr zu stornieren. Bei einer Abmeldung nach 24 h vor Klassenbeginn bzw. nicht Erscheinen ohne Abmeldung behalten wir den Beitrag von 10 Euro.Mit der Anmeldung stimmst du unseren Bedingungen zu. Ersatz-Teilnehmende sind in Absprache möglich! \n\n\n\n			\n			\n				\n				\n				\n				\n				\n				\n				\n				\n				\n				Wohl und Sicherheit\n			\n				\n				\n				\n				\n				\n			\n				\n				\n				\n				\n				\n\n\nBitte ziehe bewegungsfreundliche Kleidung an & bring eine Trinkflasche mit. Equipment und Yogamatten gibt es vor Ort.Jede/r ist verantwortlich für das eigene Wohlergehen des eigenen Körpers; bitte achte auf deine Grenzen und einen respektvollen Umgang miteinander.Dies ist ein geschützter Raum und gemeinsam tragen wir zur Sicherheit bei. \n\n\n\n			\n			\n				\n				\n				\n				\n			\n				\n				\n				\n				\n				\n				\n			\n				\n				\n				\n				\n				Jetzt anfangen!\n				\n				\n				\n					\n						\n				\n				\n				\n				\n				Name\n				\n			 \n				\n				\n				\n				\n				E-Mail-Adresse\n				\n			 \n				\n				\n				\n				\n				Message\n				\n			 \n						\n						\n							\n			\n				\n					8 + 4 = \n				 \n			\n							Senden
URL:https://movespace.at/event/yoga-22
LOCATION:Alkemy Soul Studio\, Gußhausstr. 2\, Wien\, 1040\, Austria
CATEGORIES:Yoga
ATTACH;FMTTYPE=image/jpeg:https://movespace.at/wp-content/uploads/2024/10/Yoga_AtelierSol.jpg
END:VEVENT
END:VCALENDAR