BEGIN:VCALENDAR
VERSION:2.0
PRODID:-//Move Space - ECPv6.15.20//NONSGML v1.0//EN
CALSCALE:GREGORIAN
METHOD:PUBLISH
X-WR-CALNAME:Move Space
X-ORIGINAL-URL:https://movespace.at
X-WR-CALDESC:Veranstaltungen für Move Space
REFRESH-INTERVAL;VALUE=DURATION:PT1H
X-Robots-Tag:noindex
X-PUBLISHED-TTL:PT1H
BEGIN:VTIMEZONE
TZID:Europe/Berlin
BEGIN:DAYLIGHT
TZOFFSETFROM:+0100
TZOFFSETTO:+0200
TZNAME:CEST
DTSTART:20240331T010000
END:DAYLIGHT
BEGIN:STANDARD
TZOFFSETFROM:+0200
TZOFFSETTO:+0100
TZNAME:CET
DTSTART:20241027T010000
END:STANDARD
BEGIN:DAYLIGHT
TZOFFSETFROM:+0100
TZOFFSETTO:+0200
TZNAME:CEST
DTSTART:20250330T010000
END:DAYLIGHT
BEGIN:STANDARD
TZOFFSETFROM:+0200
TZOFFSETTO:+0100
TZNAME:CET
DTSTART:20251026T010000
END:STANDARD
BEGIN:DAYLIGHT
TZOFFSETFROM:+0100
TZOFFSETTO:+0200
TZNAME:CEST
DTSTART:20260329T010000
END:DAYLIGHT
BEGIN:STANDARD
TZOFFSETFROM:+0200
TZOFFSETTO:+0100
TZNAME:CET
DTSTART:20261025T010000
END:STANDARD
END:VTIMEZONE
BEGIN:VEVENT
DTSTART;TZID=Europe/Berlin:20250813T184500
DTEND;TZID=Europe/Berlin:20250813T204500
DTSTAMP:20260422T193641
CREATED:20250102T192403Z
LAST-MODIFIED:20250709T142441Z
UID:22433-1755110700-1755117900@movespace.at
SUMMARY:Uplifting Wave
DESCRIPTION:Mittwochs: 13.08\, 27.08\, 10.09\, 24.09Donnerstags: 02.10\, 16.10\, 30.10\, 06.11\, 13.11\, 27.11\, 11.12Fokus Neubaugasse 44/2\, 1070 Wien \n  \n			\n				\n				\n				\n				\n				  \n„What happens if you cross a dance party with a meditation class?“ Tim Doody \nHeilsame Bewegungspraxis Tanz.\n5Rhythmen® unterstützt deine Hingabe an Dich selbst und deinen Körper. Ja zu dem\, wie Du Dich gerade in diesem Moment fühlst. Während einer Wave erforscht jede/r den eigenen Körperausdruck im Tanz.Es gibt angeleitete Impulse und Übungen und viel Freiheit.Wir tanzen ohne Choreografie. \nLass Dich von deinen intuitiven Bewegungen führen und überraschen.Ja zum Vertrauen in Dich selbst.Im Tanz kannst Du eine befreiende und mit anderen verbindende Erfahrung machen.Befreien kannst Du dich von Mustern und Zwängen\, wie Du vielleicht glaubst sein zu müssen.Hier kannst Du Dich tänzerisch und spielerisch verschiedene Rhythmen hingeben. Ja zu deinem kreativen Selbstausdruck im Tanz. \nBewege Raum Bewege Deinen Raum In Dir und um Dich Mit Dir und für Dich  \n\n  \n			\n				\n				\n				\n				\n				Du bist willkommen! \n  \n			\n			\n				\n				\n				\n				\n			\n				\n				\n			\n				\n				\n				\n				\n				\n				\n				\n				\n				\n				\n				\n				\n				\n				\n				\n				\n				\n				Pro Einheit – Drop In\n			\n				\n				\n				\n				\n				\n			\n				\n				\n				\n				\n				22 € \n			\n				\n				\n				\n				\n				Bei einer Abmeldung ab drei Wochen vor Seminarbeginn bzw. nicht Erscheinen ohne Abmeldung ist der gesamte Beitrag fällig. Ersatz-Teilnehmende sind in Absprache möglich! \nSozialpreis 15 € \n			\n			\n				\n				\n				\n				\n				\n				\n				\n				\n				\n				5 – Einheiten\n			\n				\n				\n				\n				\n				\n			\n				\n				\n				\n				\n				100 € \n			\n				\n				\n				\n				\n				Bei einer Abmeldung ab drei Wochen vor Seminarbeginn bzw. nicht Erscheinen ohne Abmeldung ist der gesamte Beitrag fällig. Ersatz-Teilnehmende sind in Absprache möglich! \n			\n			\n				\n				\n				\n				\n				\n				\n				\n				\n				\n				11 Einheiten\n			\n				\n				\n				\n				\n				\n			\n				\n				\n				\n				\n				200€ \n			\n				\n				\n				\n				\n				Bei einer Abmeldung ab drei Wochen vor Seminarbeginn bzw. nicht Erscheinen ohne Abmeldung ist der gesamte Beitrag fällig. Ersatz-Teilnehmende sind in Absprache möglich! \n			\n			\n				\n				\n				\n				\n			\n				\n				\n			\n				\n				\n				\n				\n				\n				\n				\n				\n				\n				\n				\n				\n				\n			\n				\n				\n				\n				\n				\n				\n				\n				\n				\n				Jetzt anmelden:\n			\n			\n				\n				\n				\n				\n				\n				\n				\n				\n					\n						\n				\n				\n				\n				\n				Name\n				\n			 \n				\n				\n				\n				\n				Email Address\n				\n			 \n				\n				\n				\n				\n				Message\n				\n			 \n						\n						\n							\n			\n				\n					2 + 2 = \n				 \n			\n							Senden
URL:https://movespace.at/event/uplifting-wave-4
LOCATION:Fokus\, Neubaugasse 44/2\, Wien\, 1070\, Austria
CATEGORIES:5Rhythmen Tanzen,Durchlässig Tanzen
ATTACH;FMTTYPE=image/png:https://movespace.at/wp-content/uploads/2025/07/Felicitas-Flyer-Front.png
END:VEVENT
BEGIN:VEVENT
DTSTART;TZID=Europe/Berlin:20250827T183000
DTEND;TZID=Europe/Berlin:20250827T203000
DTSTAMP:20260422T193642
CREATED:20250105T192951Z
LAST-MODIFIED:20250813T212529Z
UID:22463-1756319400-1756326600@movespace.at
SUMMARY:Uplifting Wave
DESCRIPTION:Mittwochs: 13.08\, 27.08\, 10.09\, 24.09Donnerstags: 02.10\, 16.10\, 30.10\, 06.11\, 13.11\, 27.11\, 11.12Fokus Neubaugasse 44/2\, 1070 Wien \n  \n			\n				\n				\n				\n				\n				  \n„What happens if you cross a dance party with a meditation class?“ Tim Doody \nHeilsame Bewegungspraxis Tanz.\n5Rhythmen® unterstützt deine Hingabe an Dich selbst und deinen Körper. Ja zu dem\, wie Du Dich gerade in diesem Moment fühlst. Während einer Wave erforscht jede/r den eigenen Körperausdruck im Tanz.Es gibt angeleitete Impulse und Übungen und viel Freiheit.Wir tanzen ohne Choreografie. \nLass Dich von deinen intuitiven Bewegungen führen und überraschen.Ja zum Vertrauen in Dich selbst.Im Tanz kannst Du eine befreiende und mit anderen verbindende Erfahrung machen.Befreien kannst Du dich von Mustern und Zwängen\, wie Du vielleicht glaubst sein zu müssen.Hier kannst Du Dich tänzerisch und spielerisch verschiedene Rhythmen hingeben. Ja zu deinem kreativen Selbstausdruck im Tanz. \nBewege Raum Bewege Deinen Raum In Dir und um Dich Mit Dir und für Dich  \n\n  \n			\n				\n				\n				\n				\n				Du bist willkommen! \n  \n			\n			\n				\n				\n				\n				\n			\n				\n				\n			\n				\n				\n				\n				\n				\n				\n				\n				\n				\n				\n				\n				\n				\n				\n				\n				\n				\n				Pro Einheit – Drop In\n			\n				\n				\n				\n				\n				\n			\n				\n				\n				\n				\n				22 € \n			\n				\n				\n				\n				\n				Bei einer Abmeldung ab drei Wochen vor Seminarbeginn bzw. nicht Erscheinen ohne Abmeldung ist der gesamte Beitrag fällig. Ersatz-Teilnehmende sind in Absprache möglich! \nSozialpreis 15 € \n			\n			\n				\n				\n				\n				\n				\n				\n				\n				\n				\n				5 – Einheiten\n			\n				\n				\n				\n				\n				\n			\n				\n				\n				\n				\n				100 € \n			\n				\n				\n				\n				\n				Bei einer Abmeldung ab drei Wochen vor Seminarbeginn bzw. nicht Erscheinen ohne Abmeldung ist der gesamte Beitrag fällig. Ersatz-Teilnehmende sind in Absprache möglich! \n			\n			\n				\n				\n				\n				\n				\n				\n				\n				\n				\n				11 Einheiten\n			\n				\n				\n				\n				\n				\n			\n				\n				\n				\n				\n				200€ \n			\n				\n				\n				\n				\n				Bei einer Abmeldung ab drei Wochen vor Seminarbeginn bzw. nicht Erscheinen ohne Abmeldung ist der gesamte Beitrag fällig. Ersatz-Teilnehmende sind in Absprache möglich! \n			\n			\n				\n				\n				\n				\n			\n				\n				\n			\n				\n				\n				\n				\n				\n				\n				\n				\n				\n				\n				\n				\n				\n			\n				\n				\n				\n				\n				\n				\n				\n				\n				\n				Jetzt anmelden:\n			\n			\n				\n				\n				\n				\n				\n				\n				\n				\n					\n						\n				\n				\n				\n				\n				Name\n				\n			 \n				\n				\n				\n				\n				Email Address\n				\n			 \n				\n				\n				\n				\n				Message\n				\n			 \n						\n						\n							\n			\n				\n					14 + 15 = \n				 \n			\n							Senden
URL:https://movespace.at/event/uplifting-wave-10
LOCATION:Fokus\, Neubaugasse 44/2\, Wien\, 1070\, Austria
CATEGORIES:5Rhythmen Tanzen,Durchlässig Tanzen
ATTACH;FMTTYPE=image/png:https://movespace.at/wp-content/uploads/2025/07/Felicitas-Flyer-Front.png
END:VEVENT
END:VCALENDAR