BEGIN:VCALENDAR
VERSION:2.0
PRODID:-//Move Space - ECPv6.15.20//NONSGML v1.0//EN
CALSCALE:GREGORIAN
METHOD:PUBLISH
X-WR-CALNAME:Move Space
X-ORIGINAL-URL:https://movespace.at
X-WR-CALDESC:Veranstaltungen für Move Space
REFRESH-INTERVAL;VALUE=DURATION:PT1H
X-Robots-Tag:noindex
X-PUBLISHED-TTL:PT1H
BEGIN:VTIMEZONE
TZID:Europe/Berlin
BEGIN:DAYLIGHT
TZOFFSETFROM:+0100
TZOFFSETTO:+0200
TZNAME:CEST
DTSTART:20250330T010000
END:DAYLIGHT
BEGIN:STANDARD
TZOFFSETFROM:+0200
TZOFFSETTO:+0100
TZNAME:CET
DTSTART:20251026T010000
END:STANDARD
BEGIN:DAYLIGHT
TZOFFSETFROM:+0100
TZOFFSETTO:+0200
TZNAME:CEST
DTSTART:20260329T010000
END:DAYLIGHT
BEGIN:STANDARD
TZOFFSETFROM:+0200
TZOFFSETTO:+0100
TZNAME:CET
DTSTART:20261025T010000
END:STANDARD
BEGIN:DAYLIGHT
TZOFFSETFROM:+0100
TZOFFSETTO:+0200
TZNAME:CEST
DTSTART:20270328T010000
END:DAYLIGHT
BEGIN:STANDARD
TZOFFSETFROM:+0200
TZOFFSETTO:+0100
TZNAME:CET
DTSTART:20271031T010000
END:STANDARD
END:VTIMEZONE
BEGIN:VEVENT
DTSTART;TZID=Europe/Berlin:20260312T183000
DTEND;TZID=Europe/Berlin:20260312T203000
DTSTAMP:20260420T083917
CREATED:20251224T170127Z
LAST-MODIFIED:20251224T172448Z
UID:23076-1773340200-1773347400@movespace.at
SUMMARY:5Rhythmen Wave
DESCRIPTION:5Rhythms ® Wave„Dein Kraftort ist in Dir“ Donnerstags 08.01\, 22.01\, 29.01 |19.02\, 26.02 | 12.03\, 19.03 | 09.04\, 23.407.05\, 14.05\, 28.05 | 04.06\, 18.06 Fokus\, Neubaugasse 44/2\, 1070 Wien \n  \n			\n				\n				\n				\n				\n				  \n„What happens if you cross a dance party with a meditation class?“ Tim Doody \nHeilsame Bewegungspraxis Tanz.\n5Rhythmen ® unterstützt deine Hingabe an Dich selbst und deinen Körper. Ja zu dem\, wie Du Dich gerade in diesem Moment fühlst. Während einer Wave erforscht jede/r den eigenen Körperausdruck im Tanz.Es gibt angeleitete Impulse und Übungen und viel Freiheit.Wir tanzen ohne Choreografie. \nLass Dich von deinen intuitiven Bewegungen führen und überraschen.Ja zum Vertrauen in Dich selbst.Im Tanz kannst Du eine befreiende und mit anderen verbindende Erfahrung machen.Befreien kannst Du dich von Mustern und Zwängen\, wie Du vielleicht glaubst sein zu müssen.Hier kannst Du Dich tänzerisch und spielerisch verschiedene Rhythmen hingeben. Ja zu deinem kreativen Selbstausdruck im Tanz. \nBewege Raum Bewege Deinen Raum In Dir und um Dich Mit Dir und für Dich  \n\n  \n			\n				\n				\n				\n				\n				Du bist willkommen! \n  \n			\n			\n				\n				\n				\n				\n			\n				\n				\n			\n				\n				\n				\n				\n				\n				\n				\n				\n				\n				\n				\n				\n				\n				\n				\n				\n				\n				Pro Einheit – Drop In\n			\n				\n				\n				\n				\n				\n			\n				\n				\n				\n				\n				25 € \n			\n				\n				\n				\n				\n				Bei kurzfristiger Abmeldung ab drei Tage vor Kursbeginn stellen wir 50% des Kursbeitrages in Rechnung. Meldest Du Dich nicht ab und kommst auch nicht zum Kurs\, stellen wir Dir den vollen Kursbeitrag in Rechnung. Bei Nichtteilnahme ohne vorherige Absage ist der gesamte Kursbeitrag als Stornogebühr zu entrichten. Mit der Anmeldung stimmst Du unseren Bedingungen zu. Ersatz-Teilnehmende sind in Absprache möglich! \nSozialpreis 18 € \n			\n			\n				\n				\n				\n				\n				\n				\n				\n				\n				\n				5 – Einheiten\n			\n				\n				\n				\n				\n				\n			\n				\n				\n				\n				\n				110 € \n			\n				\n				\n				\n				\n				Bei gebuchten Einheiten-Paket verrechnen wir bei Abmeldung ab vier Wochen vor Kursbeginn 50% des Kursbeitrages\, ab einer Woche vor Kursbeginn den gesamten Kursbeitrag.Bei Nichtteilnahme ohne vorherige Absage ist der gesamte Kursbeitrag als Stornogebühr zu entrichten. Mit der Anmeldung stimmst Du unseren Bedingungen zu. Ersatz-Teilnehmende sind in Absprache möglich! \n			\n			\n				\n				\n				\n				\n				\n				\n				\n				\n				\n				14 Einheiten\n			\n				\n				\n				\n				\n				\n			\n				\n				\n				\n				\n				280€ \n			\n				\n				\n				\n				\n				Bei gebuchten Einheiten-Paket verrechnen wir bei Abmeldung ab vier Wochen vor Kursbeginn 50% des Kursbeitrages\, ab einer Woche vor Kursbeginn den gesamten Kursbeitrag.Bei Nichtteilnahme ohne vorherige Absage ist der gesamte Kursbeitrag als Stornogebühr zu entrichten. Mit der Anmeldung stimmst Du unseren Bedingungen zu. Ersatz-Teilnehmende sind in Absprache möglich! \n			\n			\n				\n				\n				\n				\n			\n				\n				\n			\n				\n				\n				\n				\n				\n				\n				\n				\n				\n				\n				\n				\n				\n			\n				\n				\n				\n				\n				\n				\n				\n				\n				\n				Jetzt anmelden:\n			\n			\n				\n				\n				\n				\n				\n				\n				\n				\n					\n						\n				\n				\n				\n				\n				Name\n				\n			 \n				\n				\n				\n				\n				Email Address\n				\n			 \n				\n				\n				\n				\n				Message\n				\n			 \n						\n						\n							\n			\n				\n					4 + 6 = \n				 \n			\n							Senden
URL:https://movespace.at/event/5rhythmen-wave-10
LOCATION:Fokus\, Neubaugasse 44/2\, Wien\, 1070\, Austria
CATEGORIES:5Rhythmen Tanzen,Durchlässig Tanzen
ATTACH;FMTTYPE=image/png:https://movespace.at/wp-content/uploads/2025/12/5Rhythmen_Wien_Dein_Kraftort_ist-in_Dir-scaled.png
END:VEVENT
BEGIN:VEVENT
DTSTART;TZID=Europe/Berlin:20260319T183000
DTEND;TZID=Europe/Berlin:20260319T203000
DTSTAMP:20260420T083917
CREATED:20251224T170923Z
LAST-MODIFIED:20251224T170948Z
UID:23080-1773945000-1773952200@movespace.at
SUMMARY:5Rhythmen Wave
DESCRIPTION:5Rhythms ® Wave „Dein Kraftort ist in Dir“ Donnerstags 08.01\, 22.01\, 29.01 |19.02\, 26.02 | 12.03\, 19.03 | 09.04\, 23.407.05\, 14.05\, 28.05 | 04.06\, 18.06 Fokus\, Neubaugasse 44/2\, 1070 Wien \n  \n			\n				\n				\n				\n				\n				  \n„What happens if you cross a dance party with a meditation class?“ Tim Doody \nHeilsame Bewegungspraxis Tanz.\n5Rhythmen ® unterstützt deine Hingabe an Dich selbst und deinen Körper. Ja zu dem\, wie Du Dich gerade in diesem Moment fühlst. Während einer Wave erforscht jede/r den eigenen Körperausdruck im Tanz.Es gibt angeleitete Impulse und Übungen und viel Freiheit.Wir tanzen ohne Choreografie. \nLass Dich von deinen intuitiven Bewegungen führen und überraschen.Ja zum Vertrauen in Dich selbst.Im Tanz kannst Du eine befreiende und mit anderen verbindende Erfahrung machen.Befreien kannst Du dich von Mustern und Zwängen\, wie Du vielleicht glaubst sein zu müssen.Hier kannst Du Dich tänzerisch und spielerisch verschiedene Rhythmen hingeben. Ja zu deinem kreativen Selbstausdruck im Tanz. \nBewege Raum Bewege Deinen Raum In Dir und um Dich Mit Dir und für Dich  \n\n  \n			\n				\n				\n				\n				\n				Du bist willkommen! \n  \n			\n			\n				\n				\n				\n				\n			\n				\n				\n			\n				\n				\n				\n				\n				\n				\n				\n				\n				\n				\n				\n				\n				\n				\n				\n				\n				\n				Pro Einheit – Drop In\n			\n				\n				\n				\n				\n				\n			\n				\n				\n				\n				\n				25 € \n			\n				\n				\n				\n				\n				Bei kurzfristiger Abmeldung ab drei Tage vor Kursbeginn stellen wir 50% des Kursbeitrages in Rechnung. Meldest Du Dich nicht ab und kommst auch nicht zum Kurs\, stellen wir Dir den vollen Kursbeitrag in Rechnung. Bei Nichtteilnahme ohne vorherige Absage ist der gesamte Kursbeitrag als Stornogebühr zu entrichten. Mit der Anmeldung stimmst Du unseren Bedingungen zu. Ersatz-Teilnehmende sind in Absprache möglich! \nSozialpreis 18 € \n			\n			\n				\n				\n				\n				\n				\n				\n				\n				\n				\n				5 – Einheiten\n			\n				\n				\n				\n				\n				\n			\n				\n				\n				\n				\n				110 € \n			\n				\n				\n				\n				\n				Bei gebuchten Einheiten-Paket verrechnen wir bei Abmeldung ab vier Wochen vor Kursbeginn 50% des Kursbeitrages\, ab einer Woche vor Kursbeginn den gesamten Kursbeitrag.Bei Nichtteilnahme ohne vorherige Absage ist der gesamte Kursbeitrag als Stornogebühr zu entrichten. Mit der Anmeldung stimmst Du unseren Bedingungen zu. Ersatz-Teilnehmende sind in Absprache möglich! \n			\n			\n				\n				\n				\n				\n				\n				\n				\n				\n				\n				14 Einheiten\n			\n				\n				\n				\n				\n				\n			\n				\n				\n				\n				\n				280€ \n			\n				\n				\n				\n				\n				Bei gebuchten Einheiten-Paket verrechnen wir bei Abmeldung ab vier Wochen vor Kursbeginn 50% des Kursbeitrages\, ab einer Woche vor Kursbeginn den gesamten Kursbeitrag.Bei Nichtteilnahme ohne vorherige Absage ist der gesamte Kursbeitrag als Stornogebühr zu entrichten. Mit der Anmeldung stimmst Du unseren Bedingungen zu. Ersatz-Teilnehmende sind in Absprache möglich! \n			\n			\n				\n				\n				\n				\n			\n				\n				\n			\n				\n				\n				\n				\n				\n				\n				\n				\n				\n				\n				\n				\n				\n			\n				\n				\n				\n				\n				\n				\n				\n				\n				\n				Jetzt anmelden:\n			\n			\n				\n				\n				\n				\n				\n				\n				\n				\n					\n						\n				\n				\n				\n				\n				Name\n				\n			 \n				\n				\n				\n				\n				Email Address\n				\n			 \n				\n				\n				\n				\n				Message\n				\n			 \n						\n						\n							\n			\n				\n					14 + 7 = \n				 \n			\n							Senden
URL:https://movespace.at/event/5rhythmen-wave-11
LOCATION:Fokus\, Neubaugasse 44/2\, Wien\, 1070\, Austria
CATEGORIES:5Rhythmen Tanzen,Durchlässig Tanzen
ATTACH;FMTTYPE=image/png:https://movespace.at/wp-content/uploads/2025/12/5Rhythmen_Wien_Dein_Kraftort_ist-in_Dir-scaled.png
END:VEVENT
END:VCALENDAR